BEGIN:VCALENDAR
VERSION:2.0
PRODID:-//Animal and Spirit Talk - ECPv6.15.19//NONSGML v1.0//EN
CALSCALE:GREGORIAN
METHOD:PUBLISH
X-ORIGINAL-URL:https://animalandspirittalk.com
X-WR-CALDESC:Events for Animal and Spirit Talk
REFRESH-INTERVAL;VALUE=DURATION:PT1H
X-Robots-Tag:noindex
X-PUBLISHED-TTL:PT1H
BEGIN:VTIMEZONE
TZID:America/New_York
BEGIN:DAYLIGHT
TZOFFSETFROM:-0500
TZOFFSETTO:-0400
TZNAME:EDT
DTSTART:20220313T070000
END:DAYLIGHT
BEGIN:STANDARD
TZOFFSETFROM:-0400
TZOFFSETTO:-0500
TZNAME:EST
DTSTART:20221106T060000
END:STANDARD
BEGIN:DAYLIGHT
TZOFFSETFROM:-0500
TZOFFSETTO:-0400
TZNAME:EDT
DTSTART:20230312T070000
END:DAYLIGHT
BEGIN:STANDARD
TZOFFSETFROM:-0400
TZOFFSETTO:-0500
TZNAME:EST
DTSTART:20231105T060000
END:STANDARD
BEGIN:DAYLIGHT
TZOFFSETFROM:-0500
TZOFFSETTO:-0400
TZNAME:EDT
DTSTART:20240310T070000
END:DAYLIGHT
BEGIN:STANDARD
TZOFFSETFROM:-0400
TZOFFSETTO:-0500
TZNAME:EST
DTSTART:20241103T060000
END:STANDARD
END:VTIMEZONE
BEGIN:VEVENT
DTSTART;TZID=America/New_York:20230518T183000
DTEND;TZID=America/New_York:20230518T203000
DTSTAMP:20260425T210524
CREATED:20221223T170400Z
LAST-MODIFIED:20221223T170400Z
UID:691-1684434600-1684441800@animalandspirittalk.com
SUMMARY:Animal Communication Practice Circle
DESCRIPTION:Join me for an exciting opportunity to be part of an Animal Communication Practice Circle! We can blend our energies together\, and enhance your abilities and skills. Our critters need us and count on us! Bring pictures of your critters\, living and in Spirit. Currently held on Zoom. All levels welcome. 6:30-8:30 p.m. Register with Women of Wisdom at 508-230-3680. Cost $20 each. \nNext Practice Circles: \n\nThursday\, January 5\,2023\nThursday\, March 2\,2023\nThursday\, May 18\,2023
URL:https://animalandspirittalk.com/event/animal-communication-practice-circle-3/
END:VEVENT
END:VCALENDAR